BEGIN:VCALENDAR
VERSION:2.0
PRODID:-//eventon.com NONSGML v1.0//EN
CALSCALE:GREGORIAN
METHOD:PUBLISH
BEGIN:VEVENT
UID:69e748615151b
DTSTAMP:20260421T095025Z
DTSTART:20241222
DTEND:20241223
LOCATION:
SUMMARY:WEIHNACHTEN IN TODTMOOS\,  LICHTQUELL\,  SCHWARZWALD
DESCRIPTION:\nhttps://hschlaucher.com/events/weihnachten-in-todtmoos-lichtq
 uell-schwarzwald/
URL:https://hschlaucher.com/events/weihnachten-in-todtmoos-lichtquell-schwarzwald/
END:VEVENT
END:VCALENDAR